BEGIN:VCALENDAR
VERSION:2.0
PRODID:-//Stuttgarter Schriftstellerhaus - ECPv6.15.20//NONSGML v1.0//EN
CALSCALE:GREGORIAN
METHOD:PUBLISH
X-WR-CALNAME:Stuttgarter Schriftstellerhaus
X-ORIGINAL-URL:https://www.stuttgarter-schriftstellerhaus.de
X-WR-CALDESC:Veranstaltungen für Stuttgarter Schriftstellerhaus
REFRESH-INTERVAL;VALUE=DURATION:PT1H
X-Robots-Tag:noindex
X-PUBLISHED-TTL:PT1H
BEGIN:VTIMEZONE
TZID:Europe/Berlin
BEGIN:DAYLIGHT
TZOFFSETFROM:+0100
TZOFFSETTO:+0200
TZNAME:CEST
DTSTART:20250330T010000
END:DAYLIGHT
BEGIN:STANDARD
TZOFFSETFROM:+0200
TZOFFSETTO:+0100
TZNAME:CET
DTSTART:20251026T010000
END:STANDARD
BEGIN:DAYLIGHT
TZOFFSETFROM:+0100
TZOFFSETTO:+0200
TZNAME:CEST
DTSTART:20260329T010000
END:DAYLIGHT
BEGIN:STANDARD
TZOFFSETFROM:+0200
TZOFFSETTO:+0100
TZNAME:CET
DTSTART:20261025T010000
END:STANDARD
BEGIN:DAYLIGHT
TZOFFSETFROM:+0100
TZOFFSETTO:+0200
TZNAME:CEST
DTSTART:20270328T010000
END:DAYLIGHT
BEGIN:STANDARD
TZOFFSETFROM:+0200
TZOFFSETTO:+0100
TZNAME:CET
DTSTART:20271031T010000
END:STANDARD
END:VTIMEZONE
BEGIN:VEVENT
DTSTART;TZID=Europe/Berlin:20260424T180000
DTEND;TZID=Europe/Berlin:20260424T210000
DTSTAMP:20260424T022418
CREATED:20260306T091458Z
LAST-MODIFIED:20260318T085256Z
UID:18085-1777053600-1777064400@www.stuttgarter-schriftstellerhaus.de
SUMMARY:*DATUM GEÄNDERT* Blackout Poetry
DESCRIPTION:Am 24. April um 18 Uhr findet im Rahmen unserer Veranstaltungsreihe „Lyrik\, fast forward“ ein Lyrikworkshop der anderen Art im Schriftstellerhaus statt.  \nBei der „Blackout Poetry“ werden Gedichte nämlich nicht frei geschrieben sondern aus bestehenden Texten „geschwärzt“. Alle unliebsamen Worte und Buchstaben werden weggestrichen bis so ein Gedicht entsteht. Dabei verändert sich meist das Thema drastisch: aus einem alten Sachtext kann ein Liebesgedicht werden\, aus einem Zeitungsartikel eine utopische Vision. \nAlle Materialien werden gestellt\, sodass nur Ihre Kreativität gefragt ist. Eine Anmeldung ist nicht nötig. Kommen Sie einfach vorbei!
URL:https://www.stuttgarter-schriftstellerhaus.de/termin/blackout-poetry/
LOCATION:Stuttgarter Schriftstellerhaus\, Kanalstraße 4\, Stuttgart\, 70182\, Deutschland
END:VEVENT
END:VCALENDAR