BEGIN:VCALENDAR
VERSION:2.0
PRODID:-//Stuttgarter Schriftstellerhaus - ECPv6.15.20//NONSGML v1.0//EN
CALSCALE:GREGORIAN
METHOD:PUBLISH
X-WR-CALNAME:Stuttgarter Schriftstellerhaus
X-ORIGINAL-URL:https://www.stuttgarter-schriftstellerhaus.de
X-WR-CALDESC:Veranstaltungen für Stuttgarter Schriftstellerhaus
REFRESH-INTERVAL;VALUE=DURATION:PT1H
X-Robots-Tag:noindex
X-PUBLISHED-TTL:PT1H
BEGIN:VTIMEZONE
TZID:Europe/Berlin
BEGIN:DAYLIGHT
TZOFFSETFROM:+0100
TZOFFSETTO:+0200
TZNAME:CEST
DTSTART:20120325T010000
END:DAYLIGHT
BEGIN:STANDARD
TZOFFSETFROM:+0200
TZOFFSETTO:+0100
TZNAME:CET
DTSTART:20121028T010000
END:STANDARD
BEGIN:DAYLIGHT
TZOFFSETFROM:+0100
TZOFFSETTO:+0200
TZNAME:CEST
DTSTART:20130331T010000
END:DAYLIGHT
BEGIN:STANDARD
TZOFFSETFROM:+0200
TZOFFSETTO:+0100
TZNAME:CET
DTSTART:20131027T010000
END:STANDARD
BEGIN:DAYLIGHT
TZOFFSETFROM:+0100
TZOFFSETTO:+0200
TZNAME:CEST
DTSTART:20140330T010000
END:DAYLIGHT
BEGIN:STANDARD
TZOFFSETFROM:+0200
TZOFFSETTO:+0100
TZNAME:CET
DTSTART:20141026T010000
END:STANDARD
END:VTIMEZONE
BEGIN:VEVENT
DTSTART;TZID=Europe/Berlin:20131107T163000
DTEND;TZID=Europe/Berlin:20131107T180000
DTSTAMP:20260421T155952
CREATED:20131028T145211Z
LAST-MODIFIED:20131028T145211Z
UID:1454-1383841800-1383847200@www.stuttgarter-schriftstellerhaus.de
SUMMARY:Förderkreis deutscher Schriftsteller in Baden-Württemberg e.V.
DESCRIPTION:Jurysitzung \nDer Förderkreis unterstützt Schriftsteller\, die ihren ersten Wohnsitz in Baden-Württemberg haben. Der Verein lädt Autorinnen und Autoren literarischer Werke zu öffentlichen Lesungen ein\, vergibt Arbeitsstipendien\, veranstaltet Literaturwerkstätten und Seminare und zahlt Zuschüsse zu Übersetzungskosten. \nAußerdem verleiht der Förderkreis den Thaddäus-Troll-Preis und gibt die Anthologie „Förderband“ heraus. \nSeit dem 22. März 2013 hat die ehemalige Direktorin der Stuttgarter Stadtbibliothek am Mailänder Platz den Vorsitz inne. \n 
URL:https://www.stuttgarter-schriftstellerhaus.de/termin/foerderkreis-deutscher-schriftsteller-in-baden-wuerttemberg-e-v-2/
LOCATION:Stuttgarter Schriftstellerhaus\, Kanalstraße 4\, Stuttgart\, 70182\, Deutschland
CATEGORIES:Intern
ORGANIZER;CN="Stuttgarter Schriftstellerhaus":MAILTO:info@stuttgarter-schriftstellerhaus.de
END:VEVENT
BEGIN:VEVENT
DTSTART;TZID=Europe/Berlin:20131107T193000
DTEND;TZID=Europe/Berlin:20131107T210000
DTSTAMP:20260421T155952
CREATED:20131028T132546Z
LAST-MODIFIED:20131028T145426Z
UID:1455-1383852600-1383858000@www.stuttgarter-schriftstellerhaus.de
SUMMARY:Forum der Autoren
DESCRIPTION:Zu Gast: Birgit Heiderich \nDie Freiburger Autorin liest die Erzählung „Johanna geht“\, die das Thema „wie leben wir mit den Toten“ behandelt.
URL:https://www.stuttgarter-schriftstellerhaus.de/termin/forum-der-autoren-4/
LOCATION:Stuttgarter Schriftstellerhaus\, Kanalstraße 4\, Stuttgart\, 70182\, Deutschland
CATEGORIES:Intern
ORGANIZER;CN="Stuttgarter Schriftstellerhaus":MAILTO:info@stuttgarter-schriftstellerhaus.de
END:VEVENT
BEGIN:VEVENT
DTSTART;TZID=Europe/Berlin:20131108T183000
DTEND;TZID=Europe/Berlin:20131108T200000
DTSTAMP:20260421T155952
CREATED:20131028T144920Z
LAST-MODIFIED:20131028T144920Z
UID:1456-1383935400-1383940800@www.stuttgarter-schriftstellerhaus.de
SUMMARY:Förderkreis deutscher Schriftsteller in Baden-Württemberg e.V.
DESCRIPTION:Vorstandssitzung \nDer Förderkreis unterstützt Schriftsteller\, die ihren ersten Wohnsitz in Baden-Württemberg haben. Der Verein lädt Autorinnen und Autoren literarischer Werke zu öffentlichen Lesungen ein\, vergibt Arbeitsstipendien\, veranstaltet Literaturwerkstätten und Seminare und zahlt Zuschüsse zu Übersetzungskosten. \nAußerdem verleiht der Förderkreis den Thaddäus-Troll-Preis und gibt die Anthologie „Förderband“ heraus. \nSeit dem 22. März 2013 hat die ehemalige Direktorin der Stuttgarter Stadtbibliothek am Mailänder Platz den Vorsitz inne.
URL:https://www.stuttgarter-schriftstellerhaus.de/termin/foerderkreis-deutscher-schriftsteller-in-baden-wuerttemberg-e-v/
LOCATION:Stuttgarter Schriftstellerhaus\, Kanalstraße 4\, Stuttgart\, 70182\, Deutschland
CATEGORIES:Intern
ORGANIZER;CN="Stuttgarter Schriftstellerhaus":MAILTO:info@stuttgarter-schriftstellerhaus.de
END:VEVENT
BEGIN:VEVENT
DTSTART;TZID=Europe/Berlin:20131109T100000
DTEND;TZID=Europe/Berlin:20131109T180000
DTSTAMP:20260421T155952
CREATED:20131028T145132Z
LAST-MODIFIED:20140112T145823Z
UID:1457-1383991200-1384020000@www.stuttgarter-schriftstellerhaus.de
SUMMARY:Aufbaukurs Roman
DESCRIPTION:Leiter: Peter Renz \nSeit vielen Jahren gibt der Autor und Verleger Peter Renz im Schriftstellerhaus Seminare zur Erarbeitung eines Romans. Er lektoriert eingereichte Texte\, bespricht in einem kleinen Kreis die fertigen oder im Entstehen begriffenen Manuskripte. Teilnahme nur nach Anmeldung.\nMail: prenz@t-online.de \n 
URL:https://www.stuttgarter-schriftstellerhaus.de/termin/aufbaukurs-roman-2/
LOCATION:Stuttgarter Schriftstellerhaus\, Kanalstraße 4\, Stuttgart\, 70182\, Deutschland
CATEGORIES:Intern
ORGANIZER;CN="Stuttgarter Schriftstellerhaus":MAILTO:info@stuttgarter-schriftstellerhaus.de
END:VEVENT
BEGIN:VEVENT
DTSTART;TZID=Europe/Berlin:20131113T193000
DTEND;TZID=Europe/Berlin:20131113T210000
DTSTAMP:20260421T155952
CREATED:20131028T145105Z
LAST-MODIFIED:20131028T145105Z
UID:1458-1384371000-1384376400@www.stuttgarter-schriftstellerhaus.de
SUMMARY:Schreibgruppe "Band 2"
DESCRIPTION:Die hausverbundene Schreibgruppe “Band 2″ trifft sich bereits seit vielen Jahren im Schriftstellerhaus\, um Literatur zu schreiben und zu besprechen.  Die Mitglieder wechseln regelmäßig.
URL:https://www.stuttgarter-schriftstellerhaus.de/termin/schreibgruppe-band-2-9/
LOCATION:Stuttgarter Schriftstellerhaus\, Kanalstraße 4\, Stuttgart\, 70182\, Deutschland
CATEGORIES:Intern
ORGANIZER;CN="Stuttgarter Schriftstellerhaus":MAILTO:info@stuttgarter-schriftstellerhaus.de
END:VEVENT
BEGIN:VEVENT
DTSTART;TZID=Europe/Berlin:20131119T193000
DTEND;TZID=Europe/Berlin:20131119T210000
DTSTAMP:20260421T155952
CREATED:20131028T124303Z
LAST-MODIFIED:20131028T144857Z
UID:1473-1384889400-1384894800@www.stuttgarter-schriftstellerhaus.de
SUMMARY:Uta-Maria Heim: "Wem sonst als dir"
DESCRIPTION:Was heißt Gerechtigkeit? Lässt sich Vergangenheit bewältigen? Wem kann man trauen? Was heißt eigentlich Schuld? Ein ehemaliger Strafgefangener und ein Richter verstricken sich in den Fallen der Vergangenheit. Christian Schöller wurde wegen Totschlags zu 15 Jahren Gefängnis verurteilt. Ihm wurde zur Last gelegt\, er habe seine Mutter erstochen. Schöller\, der über Friedrich Hölderlin und seine Diotima schrieb\, galt als Sonderling. Sein Prozess war ein Indizienprozess\, Schöller schwieg. Nach seiner Haftentlassung wurde er ins Psychiatrische Zentrum Freudenthal überführt. Zwanzig Jahre später nimmt der damalige Staatsanwalt K. Kontakt zu Schöller auf – und bittet um Vergebung dafür\, dass er damals für die Höchststrafe plädierte. K.\, heute Richter\, fürchtet\, sein Plädoyer mündete in ein Fehlurteil. Kann der Fall nach so langer Zeit aufgeklärt werden? Ein so feinsinniger wie boshafter Roman auf der Grenze zwischen Dokudrama und Schwabo-Western. Uta-Maria Heim studierte Sprach- und Literaturwissenschaft sowie Soziologie an den Universitäten Freiburg im Breisgau und Stuttgart (Magister-Abschluss). Anschließend arbeitete sie als Kritikerin bei der Stuttgarter Zeitung. Seit Mitte der 1980er Jahre verfasst sie neben Gedichten\, Hörspielen und Theaterstücken erzählerische Werke; sie ist inzwischen vorwiegend als Autorin von Kriminal- romanen bekannt. Seit 2006 ist sie Dramaturgin in der Hörspielabteilung des SWR.\nLesung und Gespräch Moderation: Astrid Braun
URL:https://www.stuttgarter-schriftstellerhaus.de/termin/uta-maria-heim-wem-sonst-als-dir/
LOCATION:Stadtbibliothek Stuttgart\, Mailänder Platz 1\, Stuttgart\, 70173\, Deutschland
END:VEVENT
BEGIN:VEVENT
DTSTART;TZID=Europe/Berlin:20131120T160000
DTEND;TZID=Europe/Berlin:20131120T200000
DTSTAMP:20260421T155952
CREATED:20131028T144832Z
LAST-MODIFIED:20131028T144832Z
UID:1460-1384963200-1384977600@www.stuttgarter-schriftstellerhaus.de
SUMMARY:Friedrich-Bödecker-Kreis Baden-Württemberg e.V.
DESCRIPTION:Vorstandssitzung (ab 16.00 Uhr) und anschließend Mitgliederversammlung (ab 18.00 Uhr) \nInformationen zum Friedrich-Bödecker-Kreis Baden-Württemberg e.V. \nDER GRÖSSTE LITERATURVERMITTLER DES LANDES\nDer Friedrich-Bödecker-Kreis Baden-Württemberg e.V. wurde 1979 auf Initiative des Verbandes Deutscher Schriftsteller mit institutioneller Förderung durch das Ministerium für Kultus und Sport gegründet. Satzungsgemäß hat der fbk Baden-Württemberg die Aufgabe Autorenlesungen vorrangig an Schulen des Landes zu vermitteln und im Rahmen seiner Möglichkeiten zu finanzieren.\nDer fbk Baden-Württemberg hat im Verlauf seines über 30-jährigen Bestehens mehr als 11.500 Autorenlesungen finanziert\, wobei mehr als 550.000 Schülerinnen und Schüler aller Schularten erreicht wurden. Ein stolzes Ergebnis\, das ohne die Förderung durch das Land Baden-Württemberg nicht erreicht worden wäre. Literatur\, von Schriftstellerinnen und Schriftstellern lebendig vermittelt\, kann so immer wieder zu einem nachhaltigen Impuls im Umgang mit Literatur werden. www.fbk-bw.de \n 
URL:https://www.stuttgarter-schriftstellerhaus.de/termin/friedrich-boedecker-kreis-baden-wuerttemberg-e-v/
LOCATION:Stuttgarter Schriftstellerhaus\, Kanalstraße 4\, Stuttgart\, 70182\, Deutschland
CATEGORIES:Intern
ORGANIZER;CN="Stuttgarter Schriftstellerhaus":MAILTO:info@stuttgarter-schriftstellerhaus.de
END:VEVENT
BEGIN:VEVENT
DTSTART;TZID=Europe/Berlin:20131121T193000
DTEND;TZID=Europe/Berlin:20131121T210000
DTSTAMP:20260421T155952
CREATED:20131028T133110Z
LAST-MODIFIED:20131028T133110Z
UID:1469-1385062200-1385067600@www.stuttgarter-schriftstellerhaus.de
SUMMARY:Christoph Lippelt: "Weiße Tage wie gemalt"
DESCRIPTION:Der Gedichtband von Christoph Lippelt ist im September 2013 in Lindemanns Bibliothek erschienen: „Lippelts Gedichte entstehen immer aus einem konkreten Anlass; das können Landschaften\, Bilder\, eine Ausstellung oder Pflanzen\, Tiere und Steine sein. Südliche Gegenden\, besonders Italien\, werden dabei zum immer wieder umkreisten Erinnerungs- und Sehnsuchtsland. Menschen werden eher aus der Distanz betrachtet. Das Du in einigen dieser Gedichte ist häufiger das des Selbstgespräches als an ein Gegenüber gerichtet. Die Gedichtüber- schriften geben manchmal Auskunft über den Ort und die Entstehungszeit der Texte. Es geht in ihnen nicht um irgendeine Erklärung der Welt\, sondern um die Reaktionen und Assoziationen des Subjekts auf die Dinge. Es geht um das wortreiche Echo des Stummen auf den Anruf. Zerstörungen und Schrecknisse sind das Grundrauschen dieser Gedichte\, die sich zugleich als Gegenstimmen verstehen\, die Schönheit und Wohlklang benennen und verteidigen wollen.“ Christoph Lippelt\, langjähriges Mitglied im Schriftstellerhaus\, feiert im November 2013 seinen 75. Geburtstag. Er hat parallel zu seinem Beruf als Arzt zahlreiche Gedichtbände\, Erzählungen und Romane geschrieben.
URL:https://www.stuttgarter-schriftstellerhaus.de/termin/christoph-lippelt-weisse-tage-wie-gemalt/
LOCATION:Stuttgarter Schriftstellerhaus\, Kanalstraße 4\, Stuttgart\, 70182\, Deutschland
CATEGORIES:Öffentlich
ORGANIZER;CN="Stuttgarter Schriftstellerhaus":MAILTO:info@stuttgarter-schriftstellerhaus.de
END:VEVENT
BEGIN:VEVENT
DTSTART;TZID=Europe/Berlin:20131123T100000
DTEND;TZID=Europe/Berlin:20131123T180000
DTSTAMP:20260421T155952
CREATED:20131028T133007Z
LAST-MODIFIED:20131028T133007Z
UID:1461-1385200800-1385229600@www.stuttgarter-schriftstellerhaus.de
SUMMARY:Schlüsselgeschichten schreiben - ein Selbstversuch
DESCRIPTION:Schreibseminar unter der Leitung von Jutta Weber-Bock\nInfo und Anmeldung: jwb@weber-bock.de
URL:https://www.stuttgarter-schriftstellerhaus.de/termin/schluesselgeschichten-schreiben-ein-selbstversuch/
LOCATION:Stuttgarter Schriftstellerhaus\, Kanalstraße 4\, Stuttgart\, 70182\, Deutschland
CATEGORIES:Intern
ORGANIZER;CN="Stuttgarter Schriftstellerhaus":MAILTO:info@stuttgarter-schriftstellerhaus.de
END:VEVENT
BEGIN:VEVENT
DTSTART;TZID=Europe/Berlin:20131127T190000
DTEND;TZID=Europe/Berlin:20131127T210000
DTSTAMP:20260421T155952
CREATED:20131028T132929Z
LAST-MODIFIED:20131028T132929Z
UID:1463-1385578800-1385586000@www.stuttgarter-schriftstellerhaus.de
SUMMARY:Übersetzerstammtisch
DESCRIPTION:Schon seit der Gründung des Hauses vor 30 Jahren treffen sich auch die in Stuttgart und Umgebung ansässigen ÜbersetzerInnen zu einem gemütlichen Beisammensein am letzten Donnerstag (seit Juni 2013) des Monats im Schriftstellerhaus.\nBitte beachten: im Monat November ausnahmsweise am Mittwoch.
URL:https://www.stuttgarter-schriftstellerhaus.de/termin/uebersetzerstammtisch-7/
LOCATION:Stuttgarter Schriftstellerhaus\, Kanalstraße 4\, Stuttgart\, 70182\, Deutschland
CATEGORIES:Intern
ORGANIZER;CN="Stuttgarter Schriftstellerhaus":MAILTO:info@stuttgarter-schriftstellerhaus.de
END:VEVENT
BEGIN:VEVENT
DTSTART;TZID=Europe/Berlin:20131128T193000
DTEND;TZID=Europe/Berlin:20131128T210000
DTSTAMP:20260421T155952
CREATED:20131028T132907Z
LAST-MODIFIED:20131028T132907Z
UID:1464-1385667000-1385672400@www.stuttgarter-schriftstellerhaus.de
SUMMARY:VFLL im Gespräch mit Jaroslav Rudiš
DESCRIPTION:Der Verband der freien Lektorinnen und Lektoren (VFLL) trifft sich zu einem Gespräch mit dem gegenwärtigen Stipendiaten Jaroslav Rudiš.\nInformationen zum Verband: www.vfll.de
URL:https://www.stuttgarter-schriftstellerhaus.de/termin/vfll-im-gespraech-mit-jaroslav-rudis/
LOCATION:Stuttgarter Schriftstellerhaus\, Kanalstraße 4\, Stuttgart\, 70182\, Deutschland
CATEGORIES:Intern
ORGANIZER;CN="Stuttgarter Schriftstellerhaus":MAILTO:info@stuttgarter-schriftstellerhaus.de
END:VEVENT
BEGIN:VEVENT
DTSTART;TZID=Europe/Berlin:20131130T150000
DTEND;TZID=Europe/Berlin:20131130T170000
DTSTAMP:20260421T155952
CREATED:20131028T132845Z
LAST-MODIFIED:20131028T132845Z
UID:1477-1385823600-1385830800@www.stuttgarter-schriftstellerhaus.de
SUMMARY:Rose Deroussas: "Kein Zugang zum Himmel" (II)
DESCRIPTION:Spannend und typisch mediterran wird es auch dieses Mal bei Rose Deroussas\, wenn sie aus dem 2. Teil ihres neuen Buches liest. Ihre treuen und die neuen ZuhörerInnen finden sie in diesem Jahr in der Galerie InterART.\nVeranstalter: Holder Verlag/Rose Deroussas\nEintritt frei – Überraschungen inklusive\nTelefonische Reservierung ab 15.11. unter 0160-96032505
URL:https://www.stuttgarter-schriftstellerhaus.de/termin/rose-deroussas-kein-zugang-zum-himmel-ii/
LOCATION:Galerie InterART\, Rosenstraße 37\, Stuttgart\, 70182\, Deutschland
CATEGORIES:Öffentlich extern
ORGANIZER;CN="Stuttgarter Schriftstellerhaus":MAILTO:info@stuttgarter-schriftstellerhaus.de
END:VEVENT
END:VCALENDAR