BEGIN:VCALENDAR
VERSION:2.0
PRODID:-//Stuttgarter Schriftstellerhaus - ECPv6.15.20//NONSGML v1.0//EN
CALSCALE:GREGORIAN
METHOD:PUBLISH
X-WR-CALNAME:Stuttgarter Schriftstellerhaus
X-ORIGINAL-URL:https://www.stuttgarter-schriftstellerhaus.de
X-WR-CALDESC:Veranstaltungen für Stuttgarter Schriftstellerhaus
REFRESH-INTERVAL;VALUE=DURATION:PT1H
X-Robots-Tag:noindex
X-PUBLISHED-TTL:PT1H
BEGIN:VTIMEZONE
TZID:Europe/Berlin
BEGIN:DAYLIGHT
TZOFFSETFROM:+0100
TZOFFSETTO:+0200
TZNAME:CEST
DTSTART:20130331T010000
END:DAYLIGHT
BEGIN:STANDARD
TZOFFSETFROM:+0200
TZOFFSETTO:+0100
TZNAME:CET
DTSTART:20131027T010000
END:STANDARD
BEGIN:DAYLIGHT
TZOFFSETFROM:+0100
TZOFFSETTO:+0200
TZNAME:CEST
DTSTART:20140330T010000
END:DAYLIGHT
BEGIN:STANDARD
TZOFFSETFROM:+0200
TZOFFSETTO:+0100
TZNAME:CET
DTSTART:20141026T010000
END:STANDARD
BEGIN:DAYLIGHT
TZOFFSETFROM:+0100
TZOFFSETTO:+0200
TZNAME:CEST
DTSTART:20150329T010000
END:DAYLIGHT
BEGIN:STANDARD
TZOFFSETFROM:+0200
TZOFFSETTO:+0100
TZNAME:CET
DTSTART:20151025T010000
END:STANDARD
END:VTIMEZONE
BEGIN:VEVENT
DTSTART;TZID=Europe/Berlin:20140703T193000
DTEND;TZID=Europe/Berlin:20140703T210000
DTSTAMP:20260424T194338
CREATED:20140625T133259Z
LAST-MODIFIED:20140625T133259Z
UID:1679-1404415800-1404421200@www.stuttgarter-schriftstellerhaus.de
SUMMARY:Forum der Autoren
DESCRIPTION:Zu Gast: Leonie Rörich \nLeonie Evita Rörich\, 1987 in Filderstadt geboren\, studierte Allgemeine Rhetorik\, Politologie und Globalgeschichte in Tübingen\, Buenos Aires\, Wien und Leipzig. Von 2011-2013 studierte sie am Deutschen Literaturinstitut Leipzig. Schreiberfahrung sammelte sie zuvor auch schon bei Dagmar Leupold am Studio Literatur und Theater in Tübingen und als Schülerin bei Schreibseminaren im Literaturhaus Stuttgart. Seit dem Herbst 2013 lebt Leonie Rörich in Stuttgart\, wo sie ein Volontariat im Bereich Presse- und Öffentlichkeitsarbeit bei der Wirtschaftsförderung Region Stuttgart absolviert. Die Autorin wird Auszüge aus ihrem Romanprojekt „Memory mit Marga“ vorstellen.
URL:https://www.stuttgarter-schriftstellerhaus.de/termin/forum-der-autoren-11/
LOCATION:Stuttgarter Schriftstellerhaus\, Kanalstraße 4\, Stuttgart\, 70182
CATEGORIES:Intern
ORGANIZER;CN="Stuttgarter Schriftstellerhaus":MAILTO:info@stuttgarter-schriftstellerhaus.de
END:VEVENT
BEGIN:VEVENT
DTSTART;TZID=Europe/Berlin:20140704T190000
DTEND;TZID=Europe/Berlin:20140704T210000
DTSTAMP:20260424T194338
CREATED:20140625T131137Z
LAST-MODIFIED:20140625T131137Z
UID:1696-1404500400-1404507600@www.stuttgarter-schriftstellerhaus.de
SUMMARY:Helmut Pfisterer: "Der Pascha sitzt am Fenster..." - Lesung in der Pauluskirche
DESCRIPTION:Gegenüber der Pauluskirche wohnte viele Jahre der Dichter Helmut Pfisterer\, verstorben im Dezember 2010.  Von seinem „Ausguck“ am Fenster hat er den Kirchplatz oft betrachtet. Er sog auf und notierte mit spitzer Feder\, was sich da tags und nachts ereignete. Diese in einer Art Langgedicht formulierten Beobachtungen fanden sich in seinem Nachlass und konnten vom Schriftstellerhaus dank der Förderung durch die Stiftung LBBW Kunst und Kultur sowie der ALG und dem Ministerium für Wissenschaft\, Forschung und Kunst\, Baden-Württemberg\, in der hauseigenen Edition KANALSTRASSE veröffentlicht und als Jahresgabe an die Mitglieder überreicht werden. \n  \nVor der Pauluskirche lesen Signe Sellke\, eine langjährige Freundin und Begleiterin\, Gilbert Fels\, Lyriker und Nachbar\, sowie Kurt G. Wolff\, Pfarrer\, aus dem Buch. \nMusik macht die Frauenband „Rózsák“\, die viele Auftritte mit Helmut Pfisterer verbinden. Ausklang bei einem Glas Wein. Der Band kann für 10 Euro erworben werden.\nEintritt: frei
URL:https://www.stuttgarter-schriftstellerhaus.de/termin/helmut-pfisterer-der-pascha-sitzt-am-fenster-lesung-in-der-pauluskirche/
LOCATION:Pauluskirche\, Paulusstraße 1\, Stuttgart\, 70197\, Deutschland
CATEGORIES:Öffentlich extern
ORGANIZER;CN="Stuttgarter Schriftstellerhaus":MAILTO:info@stuttgarter-schriftstellerhaus.de
END:VEVENT
BEGIN:VEVENT
DTSTART;TZID=Europe/Berlin:20140709T193000
DTEND;TZID=Europe/Berlin:20140709T210000
DTSTAMP:20260424T194338
CREATED:20140625T133617Z
LAST-MODIFIED:20140625T133617Z
UID:1681-1404934200-1404939600@www.stuttgarter-schriftstellerhaus.de
SUMMARY:Schreibgruppe "Band 2"
DESCRIPTION:Die hausverbundene Schreibgruppe “Band 2″ trifft sich bereits seit vielen Jahren im Schriftstellerhaus\, um Literatur zu schreiben und zu besprechen. Die Mitglieder wechseln regelmäßig. Interessenten sind immer willkommen.\nInformationen: ingo_bauer@hotmail.com
URL:https://www.stuttgarter-schriftstellerhaus.de/termin/schreibgruppe-band-2-17/
LOCATION:Stuttgarter Schriftstellerhaus\, Kanalstraße 4\, Stuttgart\, 70182
CATEGORIES:Intern
ORGANIZER;CN="Stuttgarter Schriftstellerhaus":MAILTO:info@stuttgarter-schriftstellerhaus.de
END:VEVENT
BEGIN:VEVENT
DTSTART;TZID=Europe/Berlin:20140715T193000
DTEND;TZID=Europe/Berlin:20140715T210000
DTSTAMP:20260424T194338
CREATED:20140625T133644Z
LAST-MODIFIED:20140626T083607Z
UID:1698-1405452600-1405458000@www.stuttgarter-schriftstellerhaus.de
SUMMARY:Markus Bundi: "Die Rezeptionistin" und "Emilies Schweigen"
DESCRIPTION:In der Reihe „Junge deutsche Literatur“ \nMarkus Bundi Foto: Christian Doppler\nMarkus Bundi\, geboren 1969 in Wettenden\, Schweiz\, studierte Philosophie\, Neue Deutsche Literatur und Linguistik in Zürich. Während des Studiums erste Erfahrungen als Sportredakteur beim Badener Tagblatt. 1996-2005 Kulturredakteur bei der Aargauer Zeitung. Seit 2001 Veröffentlichungen als Autor und Herausgeber. \nBundi wird seine beiden Bücher „Emilies Schweigen“ und „Die Rezeptionistin“\, beide bei Klöpfer & Meyer \, Tübingen\, veröffentlicht\, vorstellen. Die Krankenschwester Emilie steht als Angeklagte vor Gericht\, sie ist des 70-fachen Mordes an sterbenskranken Menschen angeklagt\, es gibt aber weder Zeugen noch Beweise – und Emilie schweigt. Diese Novelle lotet die Leerstellen zwischen Schweigen und Sprechen aus und bringt den jungen Verteidiger in Not. Nicht minder verdichtet geschrieben ist die Novelle „Die Rezeptionistin“\, die dem Leben der Hotelangestellten Mona folgt. Eigentlich wollte Mona zum Zirkus\, bis ihre Eltern bei einem Flugzeugabsturz ums Leben kamen. Mona musste sich neu erfinden\, begann ein Studium\, brach es wieder ab. Als charmante Hotelangestellte schlägt sie jeden in ihren Bann. Und trotzdem ist ihre Fassade bröckelig. Wer ist sie? Was will sie? \nMarkus Bundi legt den Finger auf die Reibungsflächen zwischen Innen und Außen\, lotet poetisch und präzise den Raum aus zwischen Denken und Handeln\, Trauer und Lächeln. \nLesung und Gespräch mit Astrid Braun \nMit Unterstützung von Pro Helvetia\, Schweizer Kulturstiftung
URL:https://www.stuttgarter-schriftstellerhaus.de/termin/markus-bundi-die-rezeptionistin-und-emilies-schweigen/
LOCATION:Stadtbibliothek Stuttgart\, Mailänder Platz 1\, Stuttgart\, 70173\, Deutschland
CATEGORIES:Öffentlich extern
ATTACH;FMTTYPE=image/jpeg:https://www.stuttgarter-schriftstellerhaus.de/wp-content/uploads/2014/06/PH_logo_byline_DE_color.jpg
ORGANIZER;CN="Stuttgarter Schriftstellerhaus":MAILTO:info@stuttgarter-schriftstellerhaus.de
END:VEVENT
BEGIN:VEVENT
DTSTART;TZID=Europe/Berlin:20140717T110000
DTEND;TZID=Europe/Berlin:20140717T130000
DTSTAMP:20260424T194338
CREATED:20140625T133714Z
LAST-MODIFIED:20140625T134052Z
UID:1682-1405594800-1405602000@www.stuttgarter-schriftstellerhaus.de
SUMMARY:Stuttgarter Schriftstellerhaus e.V.
DESCRIPTION:Vorstandssitzung des Vereins Stuttgarter Schriftstellerhaus
URL:https://www.stuttgarter-schriftstellerhaus.de/termin/stuttgarter-schriftstellerhaus-e-v/
LOCATION:Stuttgarter Schriftstellerhaus\, Kanalstraße 4\, Stuttgart\, 70182
CATEGORIES:Intern
ORGANIZER;CN="Stuttgarter Schriftstellerhaus":MAILTO:info@stuttgarter-schriftstellerhaus.de
END:VEVENT
BEGIN:VEVENT
DTSTART;TZID=Europe/Berlin:20140718T160000
DTEND;TZID=Europe/Berlin:20140718T180000
DTSTAMP:20260424T194338
CREATED:20140625T134044Z
LAST-MODIFIED:20140625T134051Z
UID:1683-1405699200-1405706400@www.stuttgarter-schriftstellerhaus.de
SUMMARY:Literarisches Sommervergnügen
DESCRIPTION:Wie jedes Jahr gibt Hannelore Jouly einen Sommerkurs über literarische Neuerscheinungen.
URL:https://www.stuttgarter-schriftstellerhaus.de/termin/literarisches-sommervergnuegen-4/
LOCATION:Stuttgarter Schriftstellerhaus\, Kanalstraße 4\, Stuttgart\, 70182
CATEGORIES:Intern
ORGANIZER;CN="Stuttgarter Schriftstellerhaus":MAILTO:info@stuttgarter-schriftstellerhaus.de
END:VEVENT
BEGIN:VEVENT
DTSTART;TZID=Europe/Berlin:20140719T100000
DTEND;TZID=Europe/Berlin:20140719T180000
DTSTAMP:20260424T194338
CREATED:20140625T134042Z
LAST-MODIFIED:20140625T134051Z
UID:1684-1405764000-1405792800@www.stuttgarter-schriftstellerhaus.de
SUMMARY:Aufbaukurs Roman
DESCRIPTION:Leiter: Peter Renz \nSeit vielen Jahren gibt der Autor und Verleger Peter Renz im Schriftstellerhaus Seminare zur Erarbeitung eines Romans. Er lektoriert eingereichte Texte\, bespricht in einem kleinen Kreis die fertigen oder im Entstehen begriffenen Manuskripte. Teilnahme nur nach Anmeldung direkt bei Peter Renz.\nMail: prenz@t-online.de
URL:https://www.stuttgarter-schriftstellerhaus.de/termin/aufbaukurs-roman-9/
LOCATION:Stuttgarter Schriftstellerhaus\, Kanalstraße 4\, Stuttgart\, 70182
CATEGORIES:Intern
ORGANIZER;CN="Stuttgarter Schriftstellerhaus":MAILTO:info@stuttgarter-schriftstellerhaus.de
END:VEVENT
BEGIN:VEVENT
DTSTART;TZID=Europe/Berlin:20140725T190000
DTEND;TZID=Europe/Berlin:20140725T220000
DTSTAMP:20260424T194338
CREATED:20140625T134041Z
LAST-MODIFIED:20140625T134051Z
UID:1695-1406314800-1406325600@www.stuttgarter-schriftstellerhaus.de
SUMMARY:Sommerlesung der Schreibgruppe "Band 2"
DESCRIPTION:Motto der diesjährigen Sommerlesung: Frisch frisiert“\nAutoren der Gruppe „Band 2“ laden zu Frisörgeschichten ein. Eingeladen sind alle Menschen\, egal mit welcher Frisur.\nEintritt: ein Lächeln\nWeitere Infos: www.band2.net
URL:https://www.stuttgarter-schriftstellerhaus.de/termin/sommerlesung-der-schreibgruppe-band-2/
LOCATION:Stuttgarter Schriftstellerhaus\, Kanalstraße 4\, Stuttgart\, 70182
CATEGORIES:Öffentlich
ORGANIZER;CN="Stuttgarter Schriftstellerhaus":MAILTO:info@stuttgarter-schriftstellerhaus.de
END:VEVENT
BEGIN:VEVENT
DTSTART;TZID=Europe/Berlin:20140731T190000
DTEND;TZID=Europe/Berlin:20140731T210000
DTSTAMP:20260424T194338
CREATED:20140625T134040Z
LAST-MODIFIED:20140625T134050Z
UID:1685-1406833200-1406840400@www.stuttgarter-schriftstellerhaus.de
SUMMARY:Übersetzerstammtisch
DESCRIPTION:Schon seit der Gründung des Hauses vor 30 Jahren treffen sich auch die in Stuttgart und Umgebung ansässigen ÜbersetzerInnen zu einem gemütlichen Beisammensein am letzten Donnerstag (seit Juni 2013) des Monats im Schriftstellerhaus.
URL:https://www.stuttgarter-schriftstellerhaus.de/termin/uebersetzerstammtisch-14/
LOCATION:Stuttgarter Schriftstellerhaus\, Kanalstraße 4\, Stuttgart\, 70182
CATEGORIES:Intern
ORGANIZER;CN="Stuttgarter Schriftstellerhaus":MAILTO:info@stuttgarter-schriftstellerhaus.de
END:VEVENT
END:VCALENDAR