BEGIN:VCALENDAR
VERSION:2.0
PRODID:-//Stuttgarter Schriftstellerhaus - ECPv6.15.20//NONSGML v1.0//EN
CALSCALE:GREGORIAN
METHOD:PUBLISH
X-WR-CALNAME:Stuttgarter Schriftstellerhaus
X-ORIGINAL-URL:https://www.stuttgarter-schriftstellerhaus.de
X-WR-CALDESC:Veranstaltungen für Stuttgarter Schriftstellerhaus
REFRESH-INTERVAL;VALUE=DURATION:PT1H
X-Robots-Tag:noindex
X-PUBLISHED-TTL:PT1H
BEGIN:VTIMEZONE
TZID:Europe/Berlin
BEGIN:DAYLIGHT
TZOFFSETFROM:+0100
TZOFFSETTO:+0200
TZNAME:CEST
DTSTART:20230326T010000
END:DAYLIGHT
BEGIN:STANDARD
TZOFFSETFROM:+0200
TZOFFSETTO:+0100
TZNAME:CET
DTSTART:20231029T010000
END:STANDARD
BEGIN:DAYLIGHT
TZOFFSETFROM:+0100
TZOFFSETTO:+0200
TZNAME:CEST
DTSTART:20240331T010000
END:DAYLIGHT
BEGIN:STANDARD
TZOFFSETFROM:+0200
TZOFFSETTO:+0100
TZNAME:CET
DTSTART:20241027T010000
END:STANDARD
BEGIN:DAYLIGHT
TZOFFSETFROM:+0100
TZOFFSETTO:+0200
TZNAME:CEST
DTSTART:20250330T010000
END:DAYLIGHT
BEGIN:STANDARD
TZOFFSETFROM:+0200
TZOFFSETTO:+0100
TZNAME:CET
DTSTART:20251026T010000
END:STANDARD
END:VTIMEZONE
BEGIN:VEVENT
DTSTART;TZID=Europe/Berlin:20240701T193000
DTEND;TZID=Europe/Berlin:20240701T213000
DTSTAMP:20260422T180042
CREATED:20240603T133420Z
LAST-MODIFIED:20240623T155111Z
UID:16270-1719862200-1719869400@www.stuttgarter-schriftstellerhaus.de
SUMMARY:"Die Zeit der Zikaden". Buchvernissage mit Moritz Heger. Moderation: Theresa Clasen
DESCRIPTION:©Cover: Diogenes Verrlag\nAm 27.6.2024 erscheint der neue Roman unseres 1. Vorsitzenden Moritz Heger im Diogenes Verlag. Zur Buchvernissage laden wir gemeinsam mit dem Diogenes Verlag herzlich ein! \nKostenbeitrag: 10\,00 € / 8\,00 €\, bitte reservieren Sie Ihre Karten direkt im Hospitalhof online oder telefonisch unter 0711 / 2068-150 \nÜber das Buch\nFür Alex beginnt der Ruhestand. Doch statt Ruhe plant sie den Aufbruch ins Ungewisse: Mit einem Tinyhouse auf Rädern will sie alles Gewohnte hinter sich lassen. Johann\, Mitte fünfzig\, sucht den Ausbruch aus einem fragwürdig gewordenen Beruf und einer erkalteten Ehe. Ein ererbtes Steinhaus in Ligurien scheint ein guter Ort dafür zu sein. Alex folgt Johanns Einladung: Zwei nicht mehr junge und sehr verschiedene Menschen wollen an diesem Sehnsuchtsort die nächste Lebensetappe angehen. (© Diogenes Verlag) \nÜber den Autor\nMoritz Heger (Foto: Maurice Haas / © Diogenes Verlag)\nMoritz Heger wurde 1971 in Stuttgart geboren. Nach dem Abitur in Mainz studierte er Freie Kunst in Saarbrücken. Bald wechselte er zu einem Studium der Germanistik\, Theaterwissenschaft\, Evangelischen Theologie und Pädagogik in Mainz\, das er mit dem Magister Artium und dem Staatsexamen abschloss. Neben seiner Tätigkeit als Autor ist er Gymnasiallehrer. Er lebt in Stuttgart. \nMoritz Heger ist seit 2017 1. Vorsitzender des Stuttgarter Schriftstellerhauses e.V.\nEr moderiert literarische Formate und leitet seit 2019 das Junge Schriftstellerhaus\, drei Jahre lang zusammen mit Moritz Hildt\, seit 2022 mit Regina Rechsteiner. \nFür seine literarischen Texte wurde Moritz Heger mehrfach ausgezeichnet:\nFörderpreis zum Joseph-Breitbach-Preis 1996\nLiteratur-Förderpreis der Stadt Mainz 2003\nMDR-Literaturpreis und zugehöriger Publikumspreis 2007\nWortschatz Rheinland-Pfalz\, 2. Platz\, 2010\nIrseer Pegasus\, 2. Preis\, 2012 \n_____________________________________________________________________________ \nDas Buch kann an diesem Abend käuflich erworben werden. Wer es vorher schon lesen will kann es ab 27.6.2024 im Buchhandel erwerben. Die bibliographischen Angaben zur Bestellung finden Sie hier \n 
URL:https://www.stuttgarter-schriftstellerhaus.de/termin/die-zeit-der-zikaden-buchvernissage-mit-moritz-heger-moderation-theresa-clasen/
LOCATION:Hospitalhof Stuttgart\, Büchsenstraße 33\, Stuttgart\, 70174\, Deutschland
CATEGORIES:Öffentlich extern
ORGANIZER;CN="Stuttgarter Schriftstellerhaus":MAILTO:info@stuttgarter-schriftstellerhaus.de
END:VEVENT
END:VCALENDAR